BEGIN:VCALENDAR
VERSION:2.0
PRODID:-//ChamberMaster//Event Calendar 2.0//EN
METHOD:PUBLISH
X-PUBLISHED-TTL:P3D
REFRESH-INTERVAL:P3D
CALSCALE:GREGORIAN
BEGIN:VEVENT
DTSTART:20091003T150000Z
DTEND:20091003T180000Z
X-MICROSOFT-CDO-ALLDAYEVENT:FALSE
SUMMARY:Veterans Benefits Fair
DESCRIPTION:Veterans benefits fairs feature information on VLB loan programs\, state veterans homes and cemeteries\, and representatives from the Texas Veterans Commission and the U.S. Department of Veterans Affairs (V.A.) with information about employment\, education and V.A. claims. Representatives from local lending institutions\, professional real estate offices\, the Small Business Administration\, the Social Security Administration\, local health care providers\, and national veterans organizations will also be available at most benefits fairs.  For more information\, call: Carlos Martinez\, Texas Veterans Land Board at 956-493-9523.  Sponsored by: Texas Veterans Land Board and Texas Veterans Commission.
X-ALT-DESC;FMTTYPE=text/html:Veterans benefits fairs feature information on VLB loan programs\, state veterans homes and cemeteries\, and representatives from the Texas Veterans Commission and the U.S. Department of Veterans Affairs (V.A.) with information about employment\, education and V.A. claims. Representatives from local lending institutions\, professional real estate offices\, the Small Business Administration\, the Social Security Administration\, local health care providers\, and national veterans organizations will also be available at most benefits fairs.  For more information\, call: Carlos Martinez\, Texas Veterans Land Board at 956-493-9523.  Sponsored by: Texas Veterans Land Board and Texas Veterans Commission.\n\n
LOCATION:
UID:e.1828.2097
SEQUENCE:3
DTSTAMP:20260422T111727Z
URL:https://business.harlingen.com/events/details/veterans-benefits-fair-10-03-2009-2097
END:VEVENT

END:VCALENDAR
