BEGIN:VCALENDAR
VERSION:2.0
PRODID:-//ChamberMaster//Event Calendar 2.0//EN
METHOD:PUBLISH
X-PUBLISHED-TTL:P3D
REFRESH-INTERVAL:P3D
CALSCALE:GREGORIAN
BEGIN:VEVENT
DTSTART:20091111T170000Z
DTEND:20091111T170000Z
X-MICROSOFT-CDO-ALLDAYEVENT:FALSE
SUMMARY:Veterans Day Celebration
DESCRIPTION:A ceremony open to the public will be held in the Student Quad at 11 AM November 11. Military veterans from the ranks of students and employees are welcome to attend. Phone 956.364.4330 for details.  On this day\, we gather to salute our veterans who proudly fought for our freedom.  Thank you to all the veterans for your contributions to our country!
X-ALT-DESC;FMTTYPE=text/html:A ceremony open to the public will be held in the Student Quad at 11 AM November 11. Military veterans from the ranks of students and employees are welcome to attend. Phone 956.364.4330 for details.  On this day\, we gather to salute our veterans who proudly fought for our freedom.  Thank you to all the veterans for your contributions to our country!\n
LOCATION:
UID:e.1828.2201
SEQUENCE:3
DTSTAMP:20260422T142606Z
URL:https://business.harlingen.com/events/details/veterans-day-celebration-11-11-2009-2201
END:VEVENT

END:VCALENDAR
