BEGIN:VCALENDAR
VERSION:2.0
PRODID:-//ChamberMaster//Event Calendar 2.0//EN
METHOD:PUBLISH
X-PUBLISHED-TTL:P3D
REFRESH-INTERVAL:P3D
CALSCALE:GREGORIAN
BEGIN:VEVENT
DTSTART:20111111T220000Z
DTEND:20111111T220000Z
X-MICROSOFT-CDO-ALLDAYEVENT:FALSE
SUMMARY:Veterans Day Parade
DESCRIPTION:The public is invited. Bleacher seating is limited\, lawn chairs are welcome. Parades are held weather permitting no reschedules. Call MMA Public Affairs office at 956-421-9235 for questions.
X-ALT-DESC;FMTTYPE=text/html:The public is invited. Bleacher seating is limited\, lawn chairs are welcome. Parades are held weather permitting no reschedules. Call MMA Public Affairs office at 956-421-9235 for questions.
LOCATION:
UID:e.1828.3192
SEQUENCE:3
DTSTAMP:20260421T003014Z
URL:https://business.harlingen.com/events/details/veterans-day-parade-11-11-2011-3192
END:VEVENT

END:VCALENDAR
