BEGIN:VCALENDAR
VERSION:2.0
PRODID:-//ChamberMaster//Event Calendar 2.0//EN
METHOD:PUBLISH
X-PUBLISHED-TTL:P3D
REFRESH-INTERVAL:P3D
CALSCALE:GREGORIAN
BEGIN:VEVENT
DTSTART:20100729T150000Z
DTEND:20100729T170000Z
X-MICROSOFT-CDO-ALLDAYEVENT:FALSE
SUMMARY:Veterans Loan & Procurement Seminar
DESCRIPTION:FREE SEMINAR for veterans\, service-disabled veterans\, national guard\, reservists and active duty members of the U.S. military. July 29\, 2010 from 10 a.m. to 12 p.m. at the Mercado Delta in Edcouch\, TX.  TOPICS FOR DISCUSSION: Financing and contract opportunities available thru the American Recovery and Reinvestment Act\, SBA loan program initiatives and Business entrepreneur resources for veterans and the small business community.  Registration: contact Simon Castillo @ 361-879-0017\, ext. 21 or simon.castillo@sba.gov).\nPresented by the U.S. Small Business Administration joined by the Veterans Business Outreach Center\, SCORE\, SBDC\, PTAC and other resource partners.  Funded in part through a cooperative agreement with the U.S. Small Business Administration. Reasonable arrangements for persons with disabilities will be made\, if requested at least two weeks in advance. Assistance for the hearing impaired can be attained by calling the TDD at 956-384-5071.  For additional information call 956-292-7555 or visit SBA at www.sba.gov
X-ALT-DESC;FMTTYPE=text/html:FREE SEMINAR for veterans\, service-disabled veterans\, national guard\, reservists and active duty members of the U.S. military. July 29\, 2010 from 10 a.m. to 12 p.m. at the Mercado Delta in Edcouch\, TX.  TOPICS FOR DISCUSSION: Financing and contract opportunities available thru the American Recovery and Reinvestment Act\, SBA loan program initiatives and Business entrepreneur resources for veterans and the small business community.  Registration: contact Simon Castillo @ 361-879-0017\, ext. 21 or simon.castillo@sba.gov).\nPresented by the U.S. Small Business Administration joined by the Veterans Business Outreach Center\, SCORE\, SBDC\, PTAC and other resource partners.  Funded in part through a cooperative agreement with the U.S. Small Business Administration. Reasonable arrangements for persons with disabilities will be made\, if requested at least two weeks in advance. Assistance for the hearing impaired can be attained by calling the TDD at 956-384-5071.  For additional information call 956-292-7555 or visit SBA at www.sba.gov \n\n
LOCATION:
UID:e.1828.2606
SEQUENCE:3
DTSTAMP:20260422T015312Z
URL:https://business.harlingen.com/events/details/veterans-loan-procurement-seminar-07-29-2010-2606
END:VEVENT

END:VCALENDAR
