BEGIN:VCALENDAR
VERSION:2.0
PRODID:-//ChamberMaster//Event Calendar 2.0//EN
METHOD:PUBLISH
X-PUBLISHED-TTL:P3D
REFRESH-INTERVAL:P3D
CALSCALE:GREGORIAN
BEGIN:VEVENT
DTSTART:20100131T013000Z
DTEND:20100131T013000Z
X-MICROSOFT-CDO-ALLDAYEVENT:FALSE
SUMMARY:Veterans Night with the Killer Bees
DESCRIPTION:Veterans Night with the Bees.  All Valley Veterans 1st Ticket is Compliments of Valley Baptist Health System and South Texas Health System.  Jan. 30\, 2010.  Doors Open 6:30 pm.  Game Time 7:35 pm.  Your first ticket is FREE\, every additional ticket is only $12. For more info\, contact Jacquie Kurth at 956.843.5658.
X-ALT-DESC;FMTTYPE=text/html:Veterans Night with the Bees.  All Valley Veterans 1st Ticket is Compliments of Valley Baptist Health System and South Texas Health System.  Jan. 30\, 2010.  Doors Open 6:30 pm.  Game Time 7:35 pm.  Your first ticket is FREE\, every additional ticket is only $12. For more info\, contact Jacquie Kurth at 956.843.5658.\n
LOCATION:
UID:e.1828.2332
SEQUENCE:3
DTSTAMP:20260422T111755Z
URL:https://business.harlingen.com/events/details/veterans-night-with-the-killer-bees-01-30-2010-2332
END:VEVENT

END:VCALENDAR
