BEGIN:VCALENDAR
VERSION:2.0
PRODID:-//ChamberMaster//Event Calendar 2.0//EN
METHOD:PUBLISH
X-PUBLISHED-TTL:P3D
REFRESH-INTERVAL:P3D
CALSCALE:GREGORIAN
BEGIN:VEVENT
DTSTART;VALUE=DATE:20100206
DTEND;VALUE=DATE:20100207
TRANSP:TRANSPARENT
X-MICROSOFT-CDO-ALLDAYEVENT:TRUE
SUMMARY:VICDC Vipers Game Day Fundraiser
DESCRIPTION:RGV Vipers versus the Reno Bighorns.  Tickets only $20.  $10 from each ticket will go to support Valley International Community Development Center.  For more information please call 956-399-3777.
X-ALT-DESC;FMTTYPE=text/html:RGV Vipers versus the Reno Bighorns.  Tickets only $20.  $10 from each ticket will go to support Valley International Community Development Center.  For more information please call 956-399-3777.
LOCATION:
UID:e.1828.2295
SEQUENCE:3
DTSTAMP:20260422T093546Z
URL:https://business.harlingen.com/events/details/vicdc-vipers-game-day-fundraiser-02-06-2010-2295
END:VEVENT

END:VCALENDAR
