BEGIN:VCALENDAR
VERSION:2.0
PRODID:-//ChamberMaster//Event Calendar 2.0//EN
METHOD:PUBLISH
X-PUBLISHED-TTL:P3D
REFRESH-INTERVAL:P3D
CALSCALE:GREGORIAN
BEGIN:VEVENT
DTSTART:20091103T170000Z
DTEND:20091103T170000Z
X-MICROSOFT-CDO-ALLDAYEVENT:FALSE
SUMMARY:Victorian Mourning Rituals
DESCRIPTION:Tour the Stillman House Museum with Programs Coordinator Sarah Martinez and learn about the complex and unique world of Victorian mourning customs. Daily tours will be given at 11 am and 2 pm. This program was made possible with the help of Trevino Funeral Home\, Inc.
X-ALT-DESC;FMTTYPE=text/html:Tour the Stillman House Museum with Programs Coordinator Sarah Martinez and learn about the complex and unique world of Victorian mourning customs. Daily tours will be given at 11 am and 2 pm. This program was made possible with the help of Trevino Funeral Home\, Inc.
LOCATION:Stillman House Museum
UID:e.1828.2184
SEQUENCE:3
DTSTAMP:20260422T125724Z
URL:https://business.harlingen.com/events/details/victorian-mourning-rituals-11-03-2009-2184
END:VEVENT

END:VCALENDAR
