BEGIN:VCALENDAR
VERSION:2.0
PRODID:-//ChamberMaster//Event Calendar 2.0//EN
METHOD:PUBLISH
X-PUBLISHED-TTL:P3D
REFRESH-INTERVAL:P3D
CALSCALE:GREGORIAN
BEGIN:VEVENT
DTSTART:20100417T130000Z
DTEND:20100417T170000Z
X-MICROSOFT-CDO-ALLDAYEVENT:FALSE
SUMMARY:Victory Over Violence 5K Run/Walk
DESCRIPTION:The DA's Sword and Shield is a non-profit charitable organization who would host this event to raise proceeds to help our local Cameron County domestic violence shelters such as The Family Crisis Center and The Friendship of Women.
X-ALT-DESC;FMTTYPE=text/html:The DA's Sword and Shield is a non-profit charitable organization who would host this event to raise proceeds to help our local Cameron County domestic violence shelters such as The Family Crisis Center and The Friendship of Women.
LOCATION:Linear Park in front of the Federal Court in Brownsville\, Texas
UID:e.1828.2493
SEQUENCE:3
DTSTAMP:20260422T080807Z
URL:https://business.harlingen.com/events/details/victory-over-violence-5k-run-walk-04-17-2010-2493
END:VEVENT

END:VCALENDAR
