BEGIN:VCALENDAR
VERSION:2.0
PRODID:-//ChamberMaster//Event Calendar 2.0//EN
METHOD:PUBLISH
X-PUBLISHED-TTL:P3D
REFRESH-INTERVAL:P3D
CALSCALE:GREGORIAN
BEGIN:VEVENT
DTSTART:20121128T150000Z
DTEND:20121128T213000Z
X-MICROSOFT-CDO-ALLDAYEVENT:FALSE
SUMMARY:Vista Summit: Health - What can we do to improve health in the Rio Grande Valley?
DESCRIPTION:Hosted by Chancellor Francisco G. Cigarroa\, in partnership with President Robert Nelsen of The University of Texas - Pan American and President Juliet Garcia of The University of Texas at Brownsville.  A series of revealing panel discussions involving community and business leaders\, educators\, researchers\, administrators and healthcare providers share successful Valley programs that could impact the health of the entire region\; uncover new paths to healthier communities\; and provide a glimpse into your future health care. For more information contact Rosie Anzaldua at (956) 365-8823 or to register online\, please visit www.vistasummit.com.  This is a FREE event!
X-ALT-DESC;FMTTYPE=text/html:Hosted by Chancellor Francisco G. Cigarroa\, in partnership with President Robert Nelsen of The University of Texas - Pan American and President Juliet Garcia of The University of Texas at Brownsville.  A series of revealing panel discussions involving community and business leaders\, educators\, researchers\, administrators and healthcare providers share successful Valley programs that could impact the health of the entire region\; uncover new paths to healthier communities\; and provide a glimpse into your future health care. For more information contact Rosie Anzaldua at (956) 365-8823 or to register online\, please visit www.vistasummit.com.  This is a FREE event!
LOCATION:
UID:e.1828.4143
SEQUENCE:3
DTSTAMP:20260420T092326Z
URL:https://business.harlingen.com/events/details/vista-summit-health-what-can-we-do-to-improve-health-in-the-rio-grande-valley-11-28-2012-4143
END:VEVENT

END:VCALENDAR
