BEGIN:VCALENDAR
VERSION:2.0
PRODID:-//ChamberMaster//Event Calendar 2.0//EN
METHOD:PUBLISH
X-PUBLISHED-TTL:P3D
REFRESH-INTERVAL:P3D
CALSCALE:GREGORIAN
BEGIN:VEVENT
DTSTART:20120614T233000Z
DTEND:20120615T010000Z
X-MICROSOFT-CDO-ALLDAYEVENT:FALSE
SUMMARY:"VIVA RAHC" 10th Anniversary of the Regional Academic Health Center
DESCRIPTION:William L. Henrich\, M.D.\, MACP President \, UT Health Science Center San Antonio\, and Francisco Gonzalez-Scarano\, M.D.\, Dean\, School of Medicine and Vice President for Medical Affairs\, are pleased to invite you to celebrate the 10th Anniversary of the Regional Academic Health Center of the UT Health Science Center San Antonio. Please RSVP online at : MakeLivesBetter.uthscsa.edu/events/RAHC10Anniv.
X-ALT-DESC;FMTTYPE=text/html:William L. Henrich\, M.D.\, MACP President \, UT Health Science Center San Antonio\, and Francisco Gonzalez-Scarano\, M.D.\, Dean\, School of Medicine and Vice President for Medical Affairs\, are pleased to invite you to celebrate the 10th Anniversary of the Regional Academic Health Center of the UT Health Science Center San Antonio. Please RSVP online at : MakeLivesBetter.uthscsa.edu/events/RAHC10Anniv.
LOCATION:
UID:e.1828.3743
SEQUENCE:3
DTSTAMP:20260420T133026Z
URL:https://business.harlingen.com/events/details/viva-rahc-10th-anniversary-of-the-regional-academic-health-center-06-14-2012-3743
END:VEVENT

END:VCALENDAR
