BEGIN:VCALENDAR
VERSION:2.0
PRODID:-//ChamberMaster//Event Calendar 2.0//EN
METHOD:PUBLISH
X-PUBLISHED-TTL:P3D
REFRESH-INTERVAL:P3D
CALSCALE:GREGORIAN
BEGIN:VEVENT
DTSTART:20090919T130000Z
DTEND:20090919T130000Z
X-MICROSOFT-CDO-ALLDAYEVENT:FALSE
SUMMARY:Volunteers Needed for Dixieland Interchange Trash Pick Up!
DESCRIPTION:The City of Harlingen just received word that TxDot will mow the Dixieland interchange area on Monday\, September 21\, 2009.  Trash and palm leaves need to be picked up in order to clear the way for the mowers. Volunteers are needed to complete the task.  Volunteers may park in the Mall parking lot behind Wendy's.  Bring gloves and hat and wear long pants and closed toe shoes. Please spread the word and if you are interested to help\, contact Mandy Key by phone 956-216-5302. Work will take place from 8:00 am until finished.  Come out and show your Community Spirit and help make Harlingen shine!
X-ALT-DESC;FMTTYPE=text/html:The City of Harlingen just received word that TxDot will mow the Dixieland interchange area on Monday\, September 21\, 2009.  Trash and palm leaves need to be picked up in order to clear the way for the mowers. Volunteers are needed to complete the task.  Volunteers may park in the Mall parking lot behind Wendy's.  Bring gloves and hat and wear long pants and closed toe shoes. Please spread the word and if you are interested to help\, contact Mandy Key by phone 956-216-5302. Work will take place from 8:00 am until finished.  Come out and show your Community Spirit and help make Harlingen shine! \n
LOCATION:
UID:e.1828.2081
SEQUENCE:3
DTSTAMP:20260422T093912Z
URL:https://business.harlingen.com/events/details/volunteers-needed-for-dixieland-interchange-trash-pick-up-09-19-2009-2081
END:VEVENT

END:VCALENDAR
