BEGIN:VCALENDAR
VERSION:2.0
PRODID:-//ChamberMaster//Event Calendar 2.0//EN
METHOD:PUBLISH
X-PUBLISHED-TTL:P3D
REFRESH-INTERVAL:P3D
CALSCALE:GREGORIAN
BEGIN:VEVENT
DTSTART:20101014T130000Z
DTEND:20101014T173000Z
X-MICROSOFT-CDO-ALLDAYEVENT:FALSE
SUMMARY:Volunteers Needed for the Education and Career EXPO
DESCRIPTION:The Education and Career EXPO planning committee is in need of volunteers to serve during the EXPO between 8:00 a.m. and 12:30 pm. Due to the large number of high school students who attend the event\, volunteers are needed to serve as crosswalk monitors\, bus greeters and bus routers\, and at the water distribution points. Lunch will be provided for the volunteers. If you would like to serve as a volunteer for this event\, call Kathy Wolf at the Chamber at 423-5440.
X-ALT-DESC;FMTTYPE=text/html:The Education and Career EXPO planning committee is in need of volunteers to serve during the EXPO between 8:00 a.m. and 12:30 pm. Due to the large number of high school students who attend the event\, volunteers are needed to serve as crosswalk monitors\, bus greeters and bus routers\, and at the water distribution points. Lunch will be provided for the volunteers. If you would like to serve as a volunteer for this event\, call Kathy Wolf at the Chamber at 423-5440.\n
LOCATION:
UID:e.1828.2765
SEQUENCE:3
DTSTAMP:20260421T223439Z
URL:https://business.harlingen.com/events/details/volunteers-needed-for-the-education-and-career-expo-10-14-2010-2765
END:VEVENT

END:VCALENDAR
