BEGIN:VCALENDAR
VERSION:2.0
PRODID:-//ChamberMaster//Event Calendar 2.0//EN
METHOD:PUBLISH
X-PUBLISHED-TTL:P3D
REFRESH-INTERVAL:P3D
CALSCALE:GREGORIAN
BEGIN:VEVENT
DTSTART:20120912T140000Z
DTEND:20120912T160000Z
X-MICROSOFT-CDO-ALLDAYEVENT:FALSE
SUMMARY:Wage and Hour Seminar
DESCRIPTION:Hosted by the Small Business Development Center. Free!  Is your small business in compliance?  This workshop is designed to give business owners a better understanding of labor laws.  Please RSVP at (956) 423-5440.  Seating is limited.
X-ALT-DESC;FMTTYPE=text/html:Hosted by the Small Business Development Center. Free!  Is your small business in compliance?  This workshop is designed to give business owners a better understanding of labor laws.  Please RSVP at (956) 423-5440.  Seating is limited.    
LOCATION:
UID:e.1828.3943
SEQUENCE:3
DTSTAMP:20260420T085415Z
URL:https://business.harlingen.com/events/details/wage-and-hour-seminar-09-12-2012-3943
END:VEVENT

END:VCALENDAR
