BEGIN:VCALENDAR
VERSION:2.0
PRODID:-//ChamberMaster//Event Calendar 2.0//EN
METHOD:PUBLISH
X-PUBLISHED-TTL:P3D
REFRESH-INTERVAL:P3D
CALSCALE:GREGORIAN
BEGIN:VEVENT
DTSTART:20120402T150000Z
DTEND:20120402T220000Z
X-MICROSOFT-CDO-ALLDAYEVENT:FALSE
SUMMARY:We're 2 !! It's Our 2 Year Anniversary
DESCRIPTION:Muniz Rio Grande Pharmacy Family Owned & Operated. Join us to celebrate our 2 year anniversary. Win door prizes\, free refreshments.
X-ALT-DESC;FMTTYPE=text/html:Muniz Rio Grande Pharmacy Family Owned & Operated. Join us to celebrate our 2 year anniversary. Win door prizes\, free refreshments.
LOCATION:
UID:e.1828.3604
SEQUENCE:3
DTSTAMP:20260420T181844Z
URL:https://business.harlingen.com/events/details/we-re-2-it-s-our-2-year-anniversary-04-02-2012-3604
END:VEVENT

END:VCALENDAR
