BEGIN:VCALENDAR
VERSION:2.0
PRODID:-//ChamberMaster//Event Calendar 2.0//EN
METHOD:PUBLISH
X-PUBLISHED-TTL:P3D
REFRESH-INTERVAL:P3D
CALSCALE:GREGORIAN
BEGIN:VEVENT
DTSTART:20110621T140000Z
DTEND:20110621T170000Z
X-MICROSOFT-CDO-ALLDAYEVENT:FALSE
SUMMARY:Welcome Home\, Rio Grande Valley "Marketing your business to Winter Texans"
DESCRIPTION:Welcome Home Rio Grande Valley\nTrade Show targeting Rio Grande Valley RV Resorts\, \nRetirement Communities and Hotel Managers\nTuesday\, June 21   9 am - 12 pm\nVictoria Palms Resort- 602 N. Victoria Rd. Donna\, TX\nGuest Speakers:\n9:45 - 1015 am\nKristi Collier\, Welcome Home\, Rio Grande Valley\n"Marketing your business to Winter Texans"\n10:30 - 11:00 am\nPenny Simpson\, University of Texas Pan American\n"Understanding the Winter Texan Market Survey"\n11:15 - 1145 am\nBruce Bridgewater\, COBA Systems\n"The changing demands of WiFi for Winter Texans and Computer Support  \n28 participating vendors. No cost to attend - plenty of door prizes!
X-ALT-DESC;FMTTYPE=text/html:Welcome Home Rio Grande Valley\nTrade Show targeting Rio Grande Valley RV Resorts\, \nRetirement Communities and Hotel Managers\nTuesday\, June 21   9 am - 12 pm\nVictoria Palms Resort- 602 N. Victoria Rd. Donna\, TX\nGuest Speakers:\n9:45 - 1015 am\nKristi Collier\, Welcome Home\, Rio Grande Valley\n"Marketing your business to Winter Texans"\n10:30 - 11:00 am\nPenny Simpson\, University of Texas Pan American\n"Understanding the Winter Texan Market Survey"\n11:15 - 1145 am\nBruce Bridgewater\, COBA Systems\n"The changing demands of WiFi for Winter Texans and Computer Support  \n28 participating vendors. No cost to attend - plenty of door prizes!\n  \n\n
LOCATION:
UID:e.1828.3089
SEQUENCE:3
DTSTAMP:20260421T082502Z
URL:https://business.harlingen.com/events/details/welcome-home-rio-grande-valley-marketing-your-business-to-winter-texans-06-21-2011-3089
END:VEVENT

END:VCALENDAR
