BEGIN:VCALENDAR
VERSION:2.0
PRODID:-//ChamberMaster//Event Calendar 2.0//EN
METHOD:PUBLISH
X-PUBLISHED-TTL:P3D
REFRESH-INTERVAL:P3D
CALSCALE:GREGORIAN
BEGIN:VEVENT
DTSTART:20100928T223000Z
DTEND:20100928T223000Z
X-MICROSOFT-CDO-ALLDAYEVENT:FALSE
SUMMARY:Welcome Reception for Harlingen City Manager Carlos Yerena
DESCRIPTION:The Harlingen Area Chamber of Commerce invites you to to attend a Welcome Reception for new Harlingen City Manager\, Carlos Yerena on Tuesday\, September 28\, 2010 at 5:30 p.m.  Please RSVP to kwolf@harlingen.com\nor tsoule@harlingen.com or call 956.423.5440.
X-ALT-DESC;FMTTYPE=text/html: The Harlingen Area Chamber of Commerce invites you to to attend a Welcome Reception for new Harlingen City Manager\, Carlos Yerena on Tuesday\, September 28\, 2010 at 5:30 p.m.  Please RSVP to kwolf@harlingen.com\nor tsoule@harlingen.com or call 956.423.5440.\n \n
LOCATION:
UID:e.1828.2769
SEQUENCE:3
DTSTAMP:20260421T223505Z
URL:https://business.harlingen.com/events/details/welcome-reception-for-harlingen-city-manager-carlos-yerena-09-28-2010-2769
END:VEVENT

END:VCALENDAR
