BEGIN:VCALENDAR
VERSION:2.0
PRODID:-//ChamberMaster//Event Calendar 2.0//EN
METHOD:PUBLISH
X-PUBLISHED-TTL:P3D
REFRESH-INTERVAL:P3D
CALSCALE:GREGORIAN
BEGIN:VEVENT
DTSTART:20110504T150000Z
DTEND:20110504T150000Z
X-MICROSOFT-CDO-ALLDAYEVENT:FALSE
SUMMARY:WellMed-Harlingen Senior Center
DESCRIPTION:WellMed Medical Management\, Silver Life Fitness\, and the WellMed Charitable Foundation in partnership with the Area Agency on Aging of the Lower Rio Grande Valley invite you to the grand opening celebration of Harlingen Senior Center & Caregiver SOS. Meet and greet the new physician and staff! Refreshments will be served.
X-ALT-DESC;FMTTYPE=text/html:WellMed Medical Management\, Silver Life Fitness\, and the WellMed Charitable Foundation in partnership with the Area Agency on Aging of the Lower Rio Grande Valley invite you to the grand opening celebration of Harlingen Senior Center & Caregiver SOS. Meet and greet the new physician and staff! Refreshments will be served. \n \n
LOCATION:
UID:e.1828.3042
SEQUENCE:3
DTSTAMP:20260421T094312Z
URL:https://business.harlingen.com/events/details/wellmed-harlingen-senior-center-05-04-2011-3042
END:VEVENT

END:VCALENDAR
