BEGIN:VCALENDAR
VERSION:2.0
PRODID:-//ChamberMaster//Event Calendar 2.0//EN
METHOD:PUBLISH
X-PUBLISHED-TTL:P3D
REFRESH-INTERVAL:P3D
CALSCALE:GREGORIAN
BEGIN:VEVENT
DTSTART:20120918T170000Z
DTEND:20120918T180000Z
X-MICROSOFT-CDO-ALLDAYEVENT:FALSE
SUMMARY:What Does the Health Care Act Mean for You and Your Business?
DESCRIPTION:Seminar presented by William "Chris" Wright\, CPA. The Supreme Court has weighed in....  Now that the health care act has been affirmed\, what does it mean for you and your business? RSVP to (956) 423-5440. Seating is limited.  Lunch sponsored by Salazar Insurance Group
X-ALT-DESC;FMTTYPE=text/html:Seminar presented by William "Chris" Wright\, CPA. The Supreme Court has weighed in....  Now that the health care act has been affirmed\, what does it mean for you and your business? RSVP to (956) 423-5440. Seating is limited.  Lunch sponsored by Salazar Insurance Group\n
LOCATION:
UID:e.1828.3944
SEQUENCE:3
DTSTAMP:20260420T101955Z
URL:https://business.harlingen.com/events/details/what-does-the-health-care-act-mean-for-you-and-your-business-09-18-2012-3944
END:VEVENT

END:VCALENDAR
