BEGIN:VCALENDAR
VERSION:2.0
PRODID:-//ChamberMaster//Event Calendar 2.0//EN
METHOD:PUBLISH
X-PUBLISHED-TTL:P3D
REFRESH-INTERVAL:P3D
CALSCALE:GREGORIAN
BEGIN:VEVENT
DTSTART:20110713T223000Z
DTEND:20110713T223000Z
X-MICROSOFT-CDO-ALLDAYEVENT:FALSE
SUMMARY:Whitehead Behavioral Services
DESCRIPTION:Come celebrate the grand opening of Whitehead Behavioral Services with a ribbon cutting ceremony and open house. Learn about the many services offered to children\, adolescents and adults. Finger foods and punch will be served.
X-ALT-DESC;FMTTYPE=text/html:Come celebrate the grand opening of Whitehead Behavioral Services with a ribbon cutting ceremony and open house. Learn about the many services offered to children\, adolescents and adults. Finger foods and punch will be served. \n\n
LOCATION:
UID:e.1828.3094
SEQUENCE:3
DTSTAMP:20260421T063757Z
URL:https://business.harlingen.com/events/details/whitehead-behavioral-services-07-13-2011-3094
END:VEVENT

END:VCALENDAR
