BEGIN:VCALENDAR
VERSION:2.0
PRODID:-//ChamberMaster//Event Calendar 2.0//EN
METHOD:PUBLISH
X-PUBLISHED-TTL:P3D
REFRESH-INTERVAL:P3D
CALSCALE:GREGORIAN
BEGIN:VEVENT
DTSTART:20110624T000000Z
DTEND:20110624T000000Z
X-MICROSOFT-CDO-ALLDAYEVENT:FALSE
SUMMARY:WhiteWings Chamber Night
DESCRIPTION:Come cheer on the WhiteWings as they take on San Angelo. Support Harlingen Chamber Night and enjoy a great event while networking with other area businesses\, reward employees or spend a night out with the family. $1.00 Hot Dogs\, $1 Canned Sodas and $2 Bottled Beers in the Picnic Pavilion.
X-ALT-DESC;FMTTYPE=text/html:Come cheer on the WhiteWings as they take on San Angelo. Support Harlingen Chamber Night and enjoy a great event while networking with other area businesses\, reward employees or spend a night out with the family. $1.00 Hot Dogs\, $1 Canned Sodas and $2 Bottled Beers in the Picnic Pavilion.\n\n
LOCATION:
UID:e.1828.3090
SEQUENCE:3
DTSTAMP:20260421T094054Z
URL:https://business.harlingen.com/events/details/whitewings-chamber-night-06-23-2011-3090
END:VEVENT

END:VCALENDAR
