BEGIN:VCALENDAR
VERSION:2.0
PRODID:-//ChamberMaster//Event Calendar 2.0//EN
METHOD:PUBLISH
X-PUBLISHED-TTL:P3D
REFRESH-INTERVAL:P3D
CALSCALE:GREGORIAN
BEGIN:VEVENT
DTSTART;VALUE=DATE:20110717
DTEND;VALUE=DATE:20110718
TRANSP:TRANSPARENT
X-MICROSOFT-CDO-ALLDAYEVENT:TRUE
SUMMARY:WhiteWings Food Drive
DESCRIPTION:On July 17th\, the Rio Grande Valley WhiteWings baseball team will be partnering with the Harlingen Office of the U.S. Border Patrol for a food drive to benefit the Rio Grande Valley Food Bank.\n  \nFor every three items donated at the July 17th game\, one free WhiteWings ticket will be provided to that night's game.
X-ALT-DESC;FMTTYPE=text/html:On July 17th\, the Rio Grande Valley WhiteWings baseball team will be partnering with the Harlingen Office of the U.S. Border Patrol for a food drive to benefit the Rio Grande Valley Food Bank.\n  \nFor every three items donated at the July 17th game\, one free WhiteWings ticket will be provided to that night's game.\n
LOCATION:
UID:e.1828.3119
SEQUENCE:3
DTSTAMP:20260421T081210Z
URL:https://business.harlingen.com/events/details/whitewings-food-drive-07-17-2011-3119
END:VEVENT

END:VCALENDAR
