BEGIN:VCALENDAR
VERSION:2.0
PRODID:-//ChamberMaster//Event Calendar 2.0//EN
METHOD:PUBLISH
X-PUBLISHED-TTL:P3D
REFRESH-INTERVAL:P3D
CALSCALE:GREGORIAN
BEGIN:VEVENT
DTSTART;VALUE=DATE:20110529
DTEND;VALUE=DATE:20110530
TRANSP:TRANSPARENT
X-MICROSOFT-CDO-ALLDAYEVENT:TRUE
SUMMARY:WhiteWings Four Game Series
DESCRIPTION:WhiteWings season opens for the 2011 season on this Sunday May 29th at 7:05pm as they face the McAllen Thunder for the first of a four game series. \nEnjoy the fun all summer long as the WhiteWings play 64 home games by September 5th.  Daily promotions you will find this year include: Twofer Tuesdays\, Guaranteed Win Wednesdays\, Thirsty Thursday\, Fan Flyaway Fridays and Family Days every Sunday.  Add in tons of Saturday Giveaways and you have a season of fun all summer long.  Call the WhiteWings at 956-423-9466 (WING) for season tickets\, group tickets and schedules.  You can also visit their website www.whitewingsbaseball.com for even more information
X-ALT-DESC;FMTTYPE=text/html:WhiteWings season opens for the 2011 season on this Sunday May 29th at 7:05pm as they face the McAllen Thunder for the first of a four game series. \nEnjoy the fun all summer long as the WhiteWings play 64 home games by September 5th.  Daily promotions you will find this year include: Twofer Tuesdays\, Guaranteed Win Wednesdays\, Thirsty Thursday\, Fan Flyaway Fridays and Family Days every Sunday.  Add in tons of Saturday Giveaways and you have a season of fun all summer long.  Call the WhiteWings at 956-423-9466 (WING) for season tickets\, group tickets and schedules.  You can also visit their website www.whitewingsbaseball.com for even more information\n
LOCATION:
UID:e.1828.3059
SEQUENCE:3
DTSTAMP:20260421T110955Z
URL:https://business.harlingen.com/events/details/whitewings-four-game-series-05-29-2011-3059
END:VEVENT

END:VCALENDAR
