BEGIN:VCALENDAR
VERSION:2.0
PRODID:-//ChamberMaster//Event Calendar 2.0//EN
METHOD:PUBLISH
X-PUBLISHED-TTL:P3D
REFRESH-INTERVAL:P3D
CALSCALE:GREGORIAN
BEGIN:VEVENT
DTSTART;VALUE=DATE:20110801
DTEND;VALUE=DATE:20110802
TRANSP:TRANSPARENT
X-MICROSOFT-CDO-ALLDAYEVENT:TRUE
SUMMARY:WhiteWings' Splash Day is Coming Up!
DESCRIPTION:WhiteWings' Splash Day is Coming Up! The WhiteWings' most fun day of the year is almost here! \nOn August 1st\, the 'Wings are converting Harlingen Field into a waterpark as they will be holding Splash Day for the sixth consecutive year. Complete with a two-story tall water slide and plenty of water-soaking inflatables\, all children attending will also receive water balloons and squirt guns. EVERYONE gets soaked on Splash Day! So have some fun in the Valley sun and come on out to the WhiteWings' best day of the year. Reserve your spot today with Derek LeComte at Derek@WhiteWingsBaseball.com or call 703-819-0133.
X-ALT-DESC;FMTTYPE=text/html:WhiteWings' Splash Day is Coming Up! The WhiteWings' most fun day of the year is almost here! \nOn August 1st\, the 'Wings are converting Harlingen Field into a waterpark as they will be holding Splash Day for the sixth consecutive year. Complete with a two-story tall water slide and plenty of water-soaking inflatables\, all children attending will also receive water balloons and squirt guns. EVERYONE gets soaked on Splash Day! So have some fun in the Valley sun and come on out to the WhiteWings' best day of the year. Reserve your spot today with Derek LeComte at Derek@WhiteWingsBaseball.com or call 703-819-0133.\n\n
LOCATION:Harlingen Field (Whitewings)
UID:e.1828.3125
SEQUENCE:3
DTSTAMP:20260421T051953Z
URL:https://business.harlingen.com/events/details/whitewings-splash-day-is-coming-up-08-01-2011-3125
END:VEVENT

END:VCALENDAR
