BEGIN:VCALENDAR
VERSION:2.0
PRODID:-//ChamberMaster//Event Calendar 2.0//EN
METHOD:PUBLISH
X-PUBLISHED-TTL:P3D
REFRESH-INTERVAL:P3D
CALSCALE:GREGORIAN
BEGIN:VEVENT
DTSTART:20110514T180000Z
DTEND:20110514T180000Z
X-MICROSOFT-CDO-ALLDAYEVENT:FALSE
SUMMARY:WHITEWINGS TO HOST JOB FAIR
DESCRIPTION:Contact: Jonah Goldberg\nCell: (516) 659-1177\nE-Mail: jonahgol@whitewingsbaseball.com \n\nHARLINGEN – The North American League's Rio Grande Valley WhiteWings announced on Thursday that they are holding a job fair on Saturday\, May 14 at 1:00 p.m. at Harlingen Field to search for game day employees.Promotions Staff\n\n•Ushers\n•Maintenance Crew\n•Ticket Sales\n•Ticket Takers\n•Parking Attendants\n•Wait Staff (TABC Certified)\n•Hawkers (TABC Certified)\n•Cooks (Food handlers certification)\n•Concession Staff (Food handlers certification and TABC Certified)\n•Cashiers (TABC certified)\n•Bankers (bonded)\n \nGame day internships are also available for students who qualify for school credits. Those searching for internships are encouraged to send their resumes in advance to WhiteWings Director of Communications Jonah Goldberg at jonahgol@whitewingsbaseball.com.\n \nThe WhiteWings host the new McAllen Thunder in their home opening series from May 29-through-June 1.\n \nThe WhiteWings open the season with a four game series against the Edinburg Roadrunners at Edinburg Baseball Stadium May 25-through-28.\n \nSeason and Group tickets can be purchased by calling the WhiteWings at 956-423-WING (9464) or in person at Harlingen Field.  Individual game tickets will go on sale closer to opening day.  Log onto www.whitewingsbaseball.com for more information on ticket sales\, player signings and game promotions.\n \n ###\n\nJonah Goldberg\nDirector of Communications\nRio Grande Valley WhiteWings\nhttp://whitewingsbaseball.com\nOffice: (956) 423-9464\nCell: (516) 659-1177\nFax: (956) 423-9466
X-ALT-DESC;FMTTYPE=text/html:Contact: Jonah Goldberg\nCell: (516) 659-1177\nE-Mail: jonahgol@whitewingsbaseball.com \n\nHARLINGEN – The North American League's Rio Grande Valley WhiteWings announced on Thursday that they are holding a job fair on Saturday\, May 14 at 1:00 p.m. at Harlingen Field to search for game day employees.Promotions Staff\n\n•Ushers\n•Maintenance Crew\n•Ticket Sales\n•Ticket Takers\n•Parking Attendants\n•Wait Staff (TABC Certified)\n•Hawkers (TABC Certified)\n•Cooks (Food handlers certification)\n•Concession Staff (Food handlers certification and TABC Certified)\n•Cashiers (TABC certified)\n•Bankers (bonded)\n \nGame day internships are also available for students who qualify for school credits. Those searching for internships are encouraged to send their resumes in advance to WhiteWings Director of Communications Jonah Goldberg at jonahgol@whitewingsbaseball.com.\n \nThe WhiteWings host the new McAllen Thunder in their home opening series from May 29-through-June 1.\n \nThe WhiteWings open the season with a four game series against the Edinburg Roadrunners at Edinburg Baseball Stadium May 25-through-28.\n \nSeason and Group tickets can be purchased by calling the WhiteWings at 956-423-WING (9464) or in person at Harlingen Field.  Individual game tickets will go on sale closer to opening day.  Log onto www.whitewingsbaseball.com for more information on ticket sales\, player signings and game promotions.\n \n ###\n\nJonah Goldberg\nDirector of Communications\nRio Grande Valley WhiteWings\nhttp://whitewingsbaseball.com\nOffice: (956) 423-9464\nCell: (516) 659-1177\nFax: (956) 423-9466\n\n
LOCATION:
UID:e.1828.3037
SEQUENCE:3
DTSTAMP:20260421T111249Z
URL:https://business.harlingen.com/events/details/whitewings-to-host-job-fair-05-14-2011-3037
END:VEVENT

END:VCALENDAR
