BEGIN:VCALENDAR
VERSION:2.0
PRODID:-//ChamberMaster//Event Calendar 2.0//EN
METHOD:PUBLISH
X-PUBLISHED-TTL:P3D
REFRESH-INTERVAL:P3D
CALSCALE:GREGORIAN
BEGIN:VEVENT
DTSTART:20100508T150000Z
DTEND:20100508T180000Z
X-MICROSOFT-CDO-ALLDAYEVENT:FALSE
SUMMARY:WHITEWINGS TO HOST JOB FAIR SATURDAY MAY 8TH
DESCRIPTION:United League Baseball's Rio Grande Valley WhiteWings announced today that they are holding a job fair on Saturday\, May 8th from 10:00 a.m. – 1:00 p.m. at Harlingen Field to search for game day employees.  Available positions include •Promotions Staff •Ticket Sales •Ticket Takers •Parking Attendants •Wait Staff (TABC Certified) •Hawkers (TABC Certified) •Cooks •Concession Staff (TABC Certified) •Cashiers (TABC Certified) •Bankers (bonded).  Game day internships are also available for students who qualify for school credits. Those searching for internships are encouraged to send their resumes in advance to WhiteWings Director of Communications Jonah Goldberg at jonahgol@whitewingsbaseball.com.  For more information\, please call 956-423-9464.  The WhiteWings open the 2010 season against Laredo Broncos on Thursday\, May 27 at Veterans Field. The WhiteWings' home opener is on Saturday\, May 29 at 7:05 p.m. against the Edinburg Roadrunners at Harlingen Field. The WhiteWings will also host the Roadrunners in an 11:05 a.m. exhibition game on Monday\, May 24.
X-ALT-DESC;FMTTYPE=text/html:United League Baseball's Rio Grande Valley WhiteWings announced today that they are holding a job fair on Saturday\, May 8th from 10:00 a.m. – 1:00 p.m. at Harlingen Field to search for game day employees.  Available positions include •Promotions Staff •Ticket Sales •Ticket Takers •Parking Attendants •Wait Staff (TABC Certified) •Hawkers (TABC Certified) •Cooks •Concession Staff (TABC Certified) •Cashiers (TABC Certified) •Bankers (bonded).  Game day internships are also available for students who qualify for school credits. Those searching for internships are encouraged to send their resumes in advance to WhiteWings Director of Communications Jonah Goldberg at jonahgol@whitewingsbaseball.com.  For more information\, please call 956-423-9464.  The WhiteWings open the 2010 season against Laredo Broncos on Thursday\, May 27 at Veterans Field. The WhiteWings' home opener is on Saturday\, May 29 at 7:05 p.m. against the Edinburg Roadrunners at Harlingen Field. The WhiteWings will also host the Roadrunners in an 11:05 a.m. exhibition game on Monday\, May 24.\n
LOCATION:
UID:e.1828.2513
SEQUENCE:3
DTSTAMP:20260422T050209Z
URL:https://business.harlingen.com/events/details/whitewings-to-host-job-fair-saturday-may-8th-05-08-2010-2513
END:VEVENT

END:VCALENDAR
