BEGIN:VCALENDAR
VERSION:2.0
PRODID:-//ChamberMaster//Event Calendar 2.0//EN
METHOD:PUBLISH
X-PUBLISHED-TTL:P3D
REFRESH-INTERVAL:P3D
CALSCALE:GREGORIAN
BEGIN:VEVENT
DTSTART;VALUE=DATE:20110314
DTEND;VALUE=DATE:20110315
TRANSP:TRANSPARENT
X-MICROSOFT-CDO-ALLDAYEVENT:TRUE
SUMMARY:WhiteWings to Host Local Tryouts
DESCRIPTION:The North American League's Rio Grande Valley WhiteWings announced Wednesday that they will host a tryout camp for baseball players on Saturday 14\, 2011 at 10:00 am at Harlingen Field.\n\nProspective players planning on participating can register in advance by calling the WhiteWings at 956-423-9464.\nAnyone registering before May 1st will receive a special discounted price of $50.00\, while anyone registering either after May 1st or on the day of the tryout will have to pay $75.00 to participate. \n\nParticipants must bring their own equipment and are advised to arrive early. \nSeasons tickets to watch the WhiteWings this summer are on sale now. Season and Group tickets can be purchased by calling the WhiteWings or in person at Harlingen Field. Log onto www.whitewingsbaseball.com for more information on ticket sales\, player signings and game promotions.
X-ALT-DESC;FMTTYPE=text/html:The North American League's Rio Grande Valley WhiteWings announced Wednesday that they will host a tryout camp for baseball players on Saturday 14\, 2011 at 10:00 am at Harlingen Field.\n\nProspective players planning on participating can register in advance by calling the WhiteWings at 956-423-9464.\nAnyone registering before May 1st will receive a special discounted price of $50.00\, while anyone registering either after May 1st or on the day of the tryout will have to pay $75.00 to participate. \n\nParticipants must bring their own equipment and are advised to arrive early. \nSeasons tickets to watch the WhiteWings this summer are on sale now. Season and Group tickets can be purchased by calling the WhiteWings or in person at Harlingen Field. Log onto www.whitewingsbaseball.com for more information on ticket sales\, player signings and game promotions.
LOCATION:
UID:e.1828.2994
SEQUENCE:3
DTSTAMP:20260421T124532Z
URL:https://business.harlingen.com/events/details/whitewings-to-host-local-tryouts-03-14-2011-2994
END:VEVENT

END:VCALENDAR
