BEGIN:VCALENDAR
VERSION:2.0
PRODID:-//ChamberMaster//Event Calendar 2.0//EN
METHOD:PUBLISH
X-PUBLISHED-TTL:P3D
REFRESH-INTERVAL:P3D
CALSCALE:GREGORIAN
BEGIN:VEVENT
DTSTART:20120817T000500Z
DTEND:20120817T000500Z
X-MICROSOFT-CDO-ALLDAYEVENT:FALSE
SUMMARY:WhiteWings vs San Angelo
DESCRIPTION:"Thirsty Thursday": $1 Draft Beer
X-ALT-DESC;FMTTYPE=text/html:"Thirsty Thursday": $1 Draft Beer\n\n
LOCATION:
UID:e.1828.3932
SEQUENCE:3
DTSTAMP:20260420T100600Z
URL:https://business.harlingen.com/events/details/whitewings-vs-san-angelo-08-16-2012-3932
END:VEVENT

END:VCALENDAR
