BEGIN:VCALENDAR
VERSION:2.0
PRODID:-//ChamberMaster//Event Calendar 2.0//EN
METHOD:PUBLISH
X-PUBLISHED-TTL:P3D
REFRESH-INTERVAL:P3D
CALSCALE:GREGORIAN
BEGIN:VEVENT
DTSTART:20120329T150000Z
DTEND:20120329T150000Z
X-MICROSOFT-CDO-ALLDAYEVENT:FALSE
SUMMARY:Who's Next Barber Shop Grand Opening & Ribbon Cutting
DESCRIPTION:Come join us for pizza\, sodas and cake as we celebrate the grand opening of the new barber shop in town.
X-ALT-DESC;FMTTYPE=text/html:Come join us for pizza\, sodas and cake as we celebrate the grand opening of the new barber shop in town. \n \n
LOCATION:
UID:e.1828.3481
SEQUENCE:3
DTSTAMP:20260420T200802Z
URL:https://business.harlingen.com/events/details/who-s-next-barber-shop-grand-opening-ribbon-cutting-03-29-2012-3481
END:VEVENT

END:VCALENDAR
