BEGIN:VCALENDAR
VERSION:2.0
PRODID:-//ChamberMaster//Event Calendar 2.0//EN
METHOD:PUBLISH
X-PUBLISHED-TTL:P3D
REFRESH-INTERVAL:P3D
CALSCALE:GREGORIAN
BEGIN:VEVENT
DTSTART:20120811T140000Z
DTEND:20120811T170000Z
X-MICROSOFT-CDO-ALLDAYEVENT:FALSE
SUMMARY:Wild About Healthcare Back to School Kid's Fair
DESCRIPTION:Health Information Safari\, Kiddie Rides\, Music\, Free Kid's Dental Screenings\, and Snacks!!  Free kid's backpack to the first 600 qualified participants.  For more information and to learn how to receive your free backpack\, call (956) 365-6018.
X-ALT-DESC;FMTTYPE=text/html:Health Information Safari\, Kiddie Rides\, Music\, Free Kid's Dental Screenings\, and Snacks!!  Free kid's backpack to the first 600 qualified participants.  For more information and to learn how to receive your free backpack\, call (956) 365-6018. \n
LOCATION:
UID:e.1828.3906
SEQUENCE:3
DTSTAMP:20260420T115804Z
URL:https://business.harlingen.com/events/details/wild-about-healthcare-back-to-school-kid-s-fair-08-11-2012-3906
END:VEVENT

END:VCALENDAR
