BEGIN:VCALENDAR
VERSION:2.0
PRODID:-//ChamberMaster//Event Calendar 2.0//EN
METHOD:PUBLISH
X-PUBLISHED-TTL:P3D
REFRESH-INTERVAL:P3D
CALSCALE:GREGORIAN
BEGIN:VEVENT
DTSTART:20110813T140000Z
DTEND:20110813T170000Z
X-MICROSOFT-CDO-ALLDAYEVENT:FALSE
SUMMARY:"Wild About Healthcare Back to School Kid's Fair "
DESCRIPTION:Health Information Safari\, Kiddie Rides\, Music\, Free Kid's Dental Screenings\, and Snacks.
X-ALT-DESC;FMTTYPE=text/html:Health Information Safari\, Kiddie Rides\, Music\, Free Kid's Dental Screenings\, and Snacks. \n
LOCATION:
UID:e.1828.3135
SEQUENCE:3
DTSTAMP:20260421T053131Z
URL:https://business.harlingen.com/events/details/wild-about-healthcare-back-to-school-kid-s-fair-08-13-2011-3135
END:VEVENT

END:VCALENDAR
