BEGIN:VCALENDAR
VERSION:2.0
PRODID:-//ChamberMaster//Event Calendar 2.0//EN
METHOD:PUBLISH
X-PUBLISHED-TTL:P3D
REFRESH-INTERVAL:P3D
CALSCALE:GREGORIAN
BEGIN:VEVENT
DTSTART:20100814T140000Z
DTEND:20100814T170000Z
X-MICROSOFT-CDO-ALLDAYEVENT:FALSE
SUMMARY:Wild About Healthcare Back to School Kid's Fair
DESCRIPTION:You'll go WILD  at Su Clinica Familiar's Back to School pediatric health day.  Complete our Health Information  Safari and you'll receive a free kid's backpack (limited to the first 600 qualified participants*).\nFor info:  (956) 365-6018.  HEALTH INFORMATION SAFARI\, KIDDIE RIDES\, MUSIC\, FREE  KID'S DENTAL SCREENINGS & SNACKS.  *Limited to one backpack per child please.  Employees of Su Clinica Familiar not eligible.  Redeem completed Health Information Safari card to receive complimentary backpack.  Good only: August 14\, 2010.
X-ALT-DESC;FMTTYPE=text/html:You'll go WILD  at Su Clinica Familiar's Back to School pediatric health day.  Complete our Health Information  Safari and you'll receive a free kid's backpack (limited to the first 600 qualified participants*).\nFor info:  (956) 365-6018.  HEALTH INFORMATION SAFARI\, KIDDIE RIDES\, MUSIC\, FREE  KID'S DENTAL SCREENINGS & SNACKS.  *Limited to one backpack per child please.  Employees of Su Clinica Familiar not eligible.  Redeem completed Health Information Safari card to receive complimentary backpack.  Good only: August 14\, 2010.  \n
LOCATION:
UID:e.1828.2603
SEQUENCE:3
DTSTAMP:20260422T002059Z
URL:https://business.harlingen.com/events/details/wild-about-healthcare-back-to-school-kid-s-fair-08-14-2010-2603
END:VEVENT

END:VCALENDAR
