BEGIN:VCALENDAR
VERSION:2.0
PRODID:-//ChamberMaster//Event Calendar 2.0//EN
METHOD:PUBLISH
X-PUBLISHED-TTL:P3D
REFRESH-INTERVAL:P3D
CALSCALE:GREGORIAN
BEGIN:VEVENT
DTSTART:20110220T003000Z
DTEND:20110220T003000Z
X-MICROSOFT-CDO-ALLDAYEVENT:FALSE
SUMMARY:Wild Game Feast
DESCRIPTION:Wild Game Feast benefiting Ronald McDonald House Charities of the Rio Grande Valley. Presented by Everlast Construction. Live\, silent & bucket auctions\, with music by "Marshall Law" $75 per person\, $90 after Feb. 17. For more info please call 956-412-7200 or visit www.rmhcrgv.org.
X-ALT-DESC;FMTTYPE=text/html:Wild Game Feast benefiting Ronald McDonald House Charities of the Rio Grande Valley. Presented by Everlast Construction. Live\, silent & bucket auctions\, with music by "Marshall Law" $75 per person\, $90 after Feb. 17. For more info please call 956-412-7200 or visit www.rmhcrgv.org. \n
LOCATION:
UID:e.1828.2891
SEQUENCE:3
DTSTAMP:20260421T142245Z
URL:https://business.harlingen.com/events/details/wild-game-feast-02-19-2011-2891
END:VEVENT

END:VCALENDAR
