BEGIN:VCALENDAR
VERSION:2.0
PRODID:-//ChamberMaster//Event Calendar 2.0//EN
METHOD:PUBLISH
X-PUBLISHED-TTL:P3D
REFRESH-INTERVAL:P3D
CALSCALE:GREGORIAN
BEGIN:VEVENT
DTSTART;VALUE=DATE:20120211
DTEND;VALUE=DATE:20120212
TRANSP:TRANSPARENT
X-MICROSOFT-CDO-ALLDAYEVENT:TRUE
SUMMARY:Wild Game Feast 2012/ SAVE THE DATE
DESCRIPTION:Benefiting the Rio Grande Valley Ronald McDonald House Charities. SAVE THE DATE: Saturday\, February 11\, 2012 Wild Game Feast\, presented by United Healthcare Staff. Sponsorships available at the following levels:\n\nPresenting Sponsor--$10\,000 (Sold)\nNilgai--$5000.\nWhite Tail Deer--$3000.\nMallard--$1000.\nQuail-- $500.\nRedfish--$250.\nTo sponsor or donate auction items\, call 956-412-7200
X-ALT-DESC;FMTTYPE=text/html:Benefiting the Rio Grande Valley Ronald McDonald House Charities. SAVE THE DATE: Saturday\, February 11\, 2012 Wild Game Feast\, presented by United Healthcare Staff. Sponsorships available at the following levels:\n\nPresenting Sponsor--$10\,000 (Sold)\nNilgai--$5000.\nWhite Tail Deer--$3000.\nMallard--$1000.\nQuail-- $500.\nRedfish--$250.\nTo sponsor or donate auction items\, call 956-412-7200
LOCATION:
UID:e.1828.3335
SEQUENCE:3
DTSTAMP:20260420T211503Z
URL:https://business.harlingen.com/events/details/wild-game-feast-2012-save-the-date-02-11-2012-3335
END:VEVENT

END:VCALENDAR
