BEGIN:VCALENDAR
VERSION:2.0
PRODID:-//ChamberMaster//Event Calendar 2.0//EN
METHOD:PUBLISH
X-PUBLISHED-TTL:P3D
REFRESH-INTERVAL:P3D
CALSCALE:GREGORIAN
BEGIN:VEVENT
DTSTART:20100128T140000Z
DTEND:20100131T000000Z
X-MICROSOFT-CDO-ALLDAYEVENT:FALSE
SUMMARY:Wild Horse & Burro Adoption
DESCRIPTION:Wild Horse  \nWalk-up adoptions (first-come-first-served) follow until 6 p.m.\nSaturday    8 a.m. - noon Walk-up adoptions continue\n\nCall toll free 866-4-MUSTANGS or visit www.blm.gov/nm for more\ninformation.
X-ALT-DESC;FMTTYPE=text/html:Wild Horse & Burro Adoption\nJanuary 28-30\nRio Grande Valley Livestock Showgrounds\nMercedes\, Texas\n\nThe U.S. Bureau of Land Management offers wild horses and burros for\nadoption. These are animals that once roamed free on public lands in the\nWest where they are protected by Federal law. Excess animals are\nperiodically removed from the range and made available to the public for\nadoption. Application approval is required and can be done on site.\nMinimum\nadoption fee for most animals is $125.\n\nSchedule\nThursday:   4 p.m. - 6 p.m. Preview animals and application approval\nFriday:     8 a.m. - 6 p.m. Competitive bid adoption begins at 10 a.m.\;\nWalk-up adoptions (first-come-first-served) follow until 6 p.m.\nSaturday    8 a.m. - noon Walk-up adoptions continue\n\nCall toll free 866-4-MUSTANGS or visit www.blm.gov/nm for more\ninformation.
LOCATION:Rio Grande Valley Livestock Showgrounds On US Hwy 83 in Mercedes\, take the Texas Ave. exit and go north approx. 2 blocks. Road dead ends at the facility. Look for marquee.
UID:e.1828.2326
SEQUENCE:3
DTSTAMP:20260422T111924Z
URL:https://business.harlingen.com/events/details/wild-horse-burro-adoption-01-28-2010-2326
END:VEVENT

END:VCALENDAR
