BEGIN:VCALENDAR
VERSION:2.0
PRODID:-//ChamberMaster//Event Calendar 2.0//EN
METHOD:PUBLISH
X-PUBLISHED-TTL:P3D
REFRESH-INTERVAL:P3D
CALSCALE:GREGORIAN
BEGIN:VEVENT
DTSTART:20120614T233000Z
DTEND:20120614T233000Z
X-MICROSOFT-CDO-ALLDAYEVENT:FALSE
SUMMARY:Wildlife Inspiration 2012 Artist Members Show
DESCRIPTION:Wildlife Inspiration 2012 Artist Members Show. In commemoration of the 40th Anniversary of the Glady's Porter Zoo. Admission:  $50\, BMFA Members $40  \nExhibits by:  Sebastian/Cristina Kahlo/Luis Jimenez and BMFA Artist Members.\nFor more information\, go to www.brownsvillemfa.org.
X-ALT-DESC;FMTTYPE=text/html:Wildlife Inspiration 2012 Artist Members Show. In commemoration of the 40th Anniversary of the Glady's Porter Zoo. Admission:  $50\, BMFA Members $40  \nExhibits by:  Sebastian/Cristina Kahlo/Luis Jimenez and BMFA Artist Members.\nFor more information\, go to www.brownsvillemfa.org.  
LOCATION:
UID:e.1828.3763
SEQUENCE:3
DTSTAMP:20260420T132549Z
URL:https://business.harlingen.com/events/details/wildlife-inspiration-2012-artist-members-show-06-14-2012-3763
END:VEVENT

END:VCALENDAR
