BEGIN:VCALENDAR
VERSION:2.0
PRODID:-//ChamberMaster//Event Calendar 2.0//EN
METHOD:PUBLISH
X-PUBLISHED-TTL:P3D
REFRESH-INTERVAL:P3D
CALSCALE:GREGORIAN
BEGIN:VEVENT
DTSTART;VALUE=DATE:20120620
DTEND;VALUE=DATE:20120623
TRANSP:TRANSPARENT
X-MICROSOFT-CDO-ALLDAYEVENT:TRUE
SUMMARY:Wildlife Summer Art Camp
DESCRIPTION:Wildlife Summer Art Camp \nCamp 2:  June 18 - 22\nCamp 3:  June 25 - 29\nCamp 4:  July 2 - 6\nCamp 5:  July 9 - 13\nCamp 6:  July 16 - 20\nCamp 7:  July 23 - 27 \nMorning Camp:  10:00 a.m. - 12:00 p.m. \nAfternoon Camp:  1:00 p.m. - 3:00 p.m. \n660 E. Ringgold St.\, Brownsville\nAdmission:  $80 (10% discount for BMFA Members) \nAges:  5 to 15 \nFor more information\, call (956) 542-0941or \ne-mail:  vanessa@brownsvillemfa.org or\ngo to www.brownsvillemfa.org.
X-ALT-DESC;FMTTYPE=text/html:Wildlife Summer Art Camp \nCamp 2:  June 18 - 22\nCamp 3:  June 25 - 29\nCamp 4:  July 2 - 6\nCamp 5:  July 9 - 13\nCamp 6:  July 16 - 20\nCamp 7:  July 23 - 27 \nMorning Camp:  10:00 a.m. - 12:00 p.m. \nAfternoon Camp:  1:00 p.m. - 3:00 p.m. \n660 E. Ringgold St.\, Brownsville\nAdmission:  $80 (10% discount for BMFA Members) \nAges:  5 to 15 \nFor more information\, call (956) 542-0941or \ne-mail:  vanessa@brownsvillemfa.org or\ngo to www.brownsvillemfa.org.\n
LOCATION:
UID:e.1828.3841
SEQUENCE:3
DTSTAMP:20260420T131702Z
URL:https://business.harlingen.com/events/details/wildlife-summer-art-camp-06-20-2012-3841
END:VEVENT

END:VCALENDAR
