BEGIN:VCALENDAR
VERSION:2.0
PRODID:-//ChamberMaster//Event Calendar 2.0//EN
METHOD:PUBLISH
X-PUBLISHED-TTL:P3D
REFRESH-INTERVAL:P3D
CALSCALE:GREGORIAN
BEGIN:VEVENT
DTSTART:20120116T200000Z
DTEND:20120116T200000Z
X-MICROSOFT-CDO-ALLDAYEVENT:FALSE
SUMMARY:"Willie Nelson Tribute and Friends Show"
DESCRIPTION:The City of Harlingen and William Ware Agency present the "Willie and Friends " Show. Willie Fortune\, "the Other Willie" a Willie Nelson Tribute. Tickets are free and available at the Chamber. Limited to 2 per person.
X-ALT-DESC;FMTTYPE=text/html:The City of Harlingen and William Ware Agency present the "Willie and Friends " Show. Willie Fortune\, "the Other Willie" a Willie Nelson Tribute. Tickets are free and available at the Chamber. Limited to 2 per person. \n\n
LOCATION:
UID:e.1828.3352
SEQUENCE:3
DTSTAMP:20260420T225527Z
URL:https://business.harlingen.com/events/details/willie-nelson-tribute-and-friends-show-01-16-2012-3352
END:VEVENT

END:VCALENDAR
