BEGIN:VCALENDAR
VERSION:2.0
PRODID:-//ChamberMaster//Event Calendar 2.0//EN
METHOD:PUBLISH
X-PUBLISHED-TTL:P3D
REFRESH-INTERVAL:P3D
CALSCALE:GREGORIAN
BEGIN:VEVENT
DTSTART;VALUE=DATE:20120205
DTEND;VALUE=DATE:20120213
TRANSP:TRANSPARENT
X-MICROSOFT-CDO-ALLDAYEVENT:TRUE
SUMMARY:"Winter Revival"
DESCRIPTION:Winter Revival\, Topic: "Angels" Sunday-10:30am\, 1:30pm\, 6:00pm\, Monday 7:30pm\n                         Topic: "Examining Islam"\, Tuesday-Saturday 7:30pm\n\nService by: Mike Minson and Michael McCorkle\n\nFor more information call 956-428-4262\, Harlingencofc.org (or) Harlingencofc@gmail.com
X-ALT-DESC;FMTTYPE=text/html:Winter Revival\, Topic: "Angels" Sunday-10:30am\, 1:30pm\, 6:00pm\, Monday 7:30pm\n                         Topic: "Examining Islam"\, Tuesday-Saturday 7:30pm\n\nService by: Mike Minson and Michael McCorkle\n\nFor more information call 956-428-4262\, Harlingencofc.org (or) Harlingencofc@gmail.com
LOCATION:
UID:e.1828.3401
SEQUENCE:3
DTSTAMP:20260420T195225Z
URL:https://business.harlingen.com/events/details/winter-revival-02-05-2012-3401
END:VEVENT

END:VCALENDAR
