BEGIN:VCALENDAR
VERSION:2.0
PRODID:-//ChamberMaster//Event Calendar 2.0//EN
METHOD:PUBLISH
X-PUBLISHED-TTL:P3D
REFRESH-INTERVAL:P3D
CALSCALE:GREGORIAN
BEGIN:VEVENT
DTSTART:20100120T150000Z
DTEND:20100121T220000Z
X-MICROSOFT-CDO-ALLDAYEVENT:FALSE
SUMMARY:Winter Texan EXPO & Health Fair
DESCRIPTION:Over 75 exhibitors.  FREE admission!  FREE Health Screenings! FREE Entertainment!  Lots of Door Prizes.  For more information visit www.wintertexanexpo.com or call 956-460-6887.
X-ALT-DESC;FMTTYPE=text/html:Over 75 exhibitors.  FREE admission!  FREE Health Screenings! FREE Entertainment!  Lots of Door Prizes.  For more information visit www.wintertexanexpo.com or call 956-460-6887.
LOCATION:
UID:e.1828.2264
SEQUENCE:3
DTSTAMP:20260422T112100Z
URL:https://business.harlingen.com/events/details/winter-texan-expo-health-fair-01-20-2010-2264
END:VEVENT

END:VCALENDAR
