BEGIN:VCALENDAR
VERSION:2.0
PRODID:-//ChamberMaster//Event Calendar 2.0//EN
METHOD:PUBLISH
X-PUBLISHED-TTL:P3D
REFRESH-INTERVAL:P3D
CALSCALE:GREGORIAN
BEGIN:VEVENT
DTSTART:20120309T143000Z
DTEND:20120309T163000Z
X-MICROSOFT-CDO-ALLDAYEVENT:FALSE
SUMMARY:Winter Texan Farewell Country Breakfast
DESCRIPTION:ALL YOU CAN EAT Buttermilk Pancakes\, Scrambled Eggs\, Homestyle Potatoes\, Bacon\, Sausage\,\nBiscuits with Sausage Gravy\, Cheddar Cheese Grits\, Assorted Breakfast Pastries\, Orange Juice and Coffee\nMOVE-IN SPECIAL TOURS will be available. For information call 956-430-3100.
X-ALT-DESC;FMTTYPE=text/html:ALL YOU CAN EAT Buttermilk Pancakes\, Scrambled Eggs\, Homestyle Potatoes\, Bacon\, Sausage\,\nBiscuits with Sausage Gravy\, Cheddar Cheese Grits\, Assorted Breakfast Pastries\, Orange Juice and Coffee\nMOVE-IN SPECIAL TOURS will be available. For information call 956-430-3100.
LOCATION:The Texas Room at Golden Palms
UID:e.1828.3479
SEQUENCE:3
DTSTAMP:20260420T182056Z
URL:https://business.harlingen.com/events/details/winter-texan-farewell-country-breakfast-03-09-2012-3479
END:VEVENT

END:VCALENDAR
