BEGIN:VCALENDAR
VERSION:2.0
PRODID:-//ChamberMaster//Event Calendar 2.0//EN
METHOD:PUBLISH
X-PUBLISHED-TTL:P3D
REFRESH-INTERVAL:P3D
CALSCALE:GREGORIAN
BEGIN:VEVENT
DTSTART:20111026T150000Z
DTEND:20111026T190000Z
X-MICROSOFT-CDO-ALLDAYEVENT:FALSE
SUMMARY:Winter Texan Park Activity Directors' Trade Show
DESCRIPTION:Welcome Home\, RGV will be hosting a trade show for Park Activity Directors throughout the valley on October 26th from 10am - 2pm. Activity Directors plan tours\, trips and entertainment for Winter Texans. Tables are free for members of the Welcome Home\, RGV network. If you are interested in becoming a member of Welcome Home\, RGV and participating in the show\, contact Kristi Collier at 687-5115.
X-ALT-DESC;FMTTYPE=text/html:Welcome Home\, RGV will be hosting a trade show for Park Activity Directors throughout the valley on October 26th from 10am - 2pm. Activity Directors plan tours\, trips and entertainment for Winter Texans. Tables are free for members of the Welcome Home\, RGV network. If you are interested in becoming a member of Welcome Home\, RGV and participating in the show\, contact Kristi Collier at 687-5115.\n
LOCATION:
UID:e.1828.3173
SEQUENCE:3
DTSTAMP:20260421T021424Z
URL:https://business.harlingen.com/events/details/winter-texan-park-activity-directors-trade-show-10-26-2011-3173
END:VEVENT

END:VCALENDAR
