BEGIN:VCALENDAR
VERSION:2.0
PRODID:-//ChamberMaster//Event Calendar 2.0//EN
METHOD:PUBLISH
X-PUBLISHED-TTL:P3D
REFRESH-INTERVAL:P3D
CALSCALE:GREGORIAN
BEGIN:VEVENT
DTSTART:20100123T140000Z
DTEND:20100123T173000Z
X-MICROSOFT-CDO-ALLDAYEVENT:FALSE
SUMMARY:WINTER TRASH BASH
DESCRIPTION:Mark Your Calendars for the WINTER TRASH BASH presented by Harlingen Proud and the City of Harlingen on Saturday\, January 23rd from 8:00 am – 11:30 am. NEW LOCATION!!!!! 11:45am LUNCH at the Oil Mill Pavillion. We are in need of Volunteers to help pick up trash citywide. When a group signs up\, they will be able to choose a designated area to clean up. First Come\, First Serve basis only. Please bring gloves and a lot of enthusiasm. We will be providing lunch & refreshments and a free T-shirt for your efforts! FOR MORE INFORMATION OR TO SIGN UP YOUR BUSINESS\, ORGANIZATION OR GROUP\, please call (956) 216-5302 or email mkey@myharlingen.us.  Thank you for your support and community spirit!!!
X-ALT-DESC;FMTTYPE=text/html:Mark Your Calendars for the WINTER TRASH BASH presented by Harlingen Proud and the City of Harlingen on Saturday\, January 23rd from 8:00 am – 11:30 am. NEW LOCATION!!!!! 11:45am LUNCH at the Oil Mill Pavillion. We are in need of Volunteers to help pick up trash citywide. When a group signs up\, they will be able to choose a designated area to clean up. First Come\, First Serve basis only. Please bring gloves and a lot of enthusiasm. We will be providing lunch & refreshments and a free T-shirt for your efforts! FOR MORE INFORMATION OR TO SIGN UP YOUR BUSINESS\, ORGANIZATION OR GROUP\, please call (956) 216-5302 or email mkey@myharlingen.us.  Thank you for your support and community spirit!!! \n
LOCATION:Located behind the new police station on Fair Park Blvd.
UID:e.1828.2300
SEQUENCE:3
DTSTAMP:20260422T111438Z
URL:https://business.harlingen.com/events/details/winter-trash-bash-01-23-2010-2300
END:VEVENT

END:VCALENDAR
