BEGIN:VCALENDAR
VERSION:2.0
PRODID:-//ChamberMaster//Event Calendar 2.0//EN
METHOD:PUBLISH
X-PUBLISHED-TTL:P3D
REFRESH-INTERVAL:P3D
CALSCALE:GREGORIAN
BEGIN:VEVENT
DTSTART:20210506T163000Z
DTEND:20210506T173000Z
X-MICROSOFT-CDO-ALLDAYEVENT:FALSE
SUMMARY:Women Empowering Women: Amy Flores
DESCRIPTION:Our monthly Women Empowering Women event is here! Our keynote speaker for this month is Amy Flores\, Chief Nursing Officer of Harlingen Medical Center.
X-ALT-DESC;FMTTYPE=text/html:Our monthly Women Empowering Women event is here! Our keynote speaker for this month is Amy Flores\, Chief Nursing Officer of Harlingen Medical Center.&nbsp\;
LOCATION:Colletti's Italian Restaurant 202 S 1st\, Harlingen\, TX
UID:e.1828.16430
SEQUENCE:3
DTSTAMP:20260419T175827Z
URL:https://business.harlingen.com/events/details/women-empowering-women-amy-flores-16430
END:VEVENT

END:VCALENDAR
