BEGIN:VCALENDAR
VERSION:2.0
PRODID:-//ChamberMaster//Event Calendar 2.0//EN
METHOD:PUBLISH
X-PUBLISHED-TTL:P3D
REFRESH-INTERVAL:P3D
CALSCALE:GREGORIAN
BEGIN:VEVENT
DTSTART;VALUE=DATE:20110121
DTEND;VALUE=DATE:20110124
TRANSP:TRANSPARENT
X-MICROSOFT-CDO-ALLDAYEVENT:TRUE
SUMMARY:Women of St. Alban's Annual Antique Show
DESCRIPTION:The Women of St. Alban's annual antique show will be held January 21-22-23 at the Casa de Amistad\, 1204 Fair Park Blvd. in Harlingen.  Friday & Saturday 10 am to 6 pm & Sunday Noon to 5 pm.  Small entry fee required.  $5.00 admission good for all three days.  Dealers from all over the country will be selling Quality Antiques.  For more information\, please contact B. J. Hennessee at St. Alban's Episcopal Church at 956-428-2305.
X-ALT-DESC;FMTTYPE=text/html:The Women of St. Alban's annual antique show will be held January 21-22-23 at the Casa de Amistad\, 1204 Fair Park Blvd. in Harlingen.  Friday & Saturday 10 am to 6 pm & Sunday Noon to 5 pm.  Small entry fee required.  $5.00 admission good for all three days.  Dealers from all over the country will be selling Quality Antiques.  For more information\, please contact B. J. Hennessee at St. Alban's Episcopal Church at 956-428-2305.\n
LOCATION:
UID:e.1828.2696
SEQUENCE:3
DTSTAMP:20260421T155126Z
URL:https://business.harlingen.com/events/details/women-of-st-alban-s-annual-antique-show-01-21-2011-2696
END:VEVENT

END:VCALENDAR
