BEGIN:VCALENDAR
VERSION:2.0
PRODID:-//ChamberMaster//Event Calendar 2.0//EN
METHOD:PUBLISH
X-PUBLISHED-TTL:P3D
REFRESH-INTERVAL:P3D
CALSCALE:GREGORIAN
BEGIN:VEVENT
DTSTART:20110826T130000Z
DTEND:20110826T190000Z
X-MICROSOFT-CDO-ALLDAYEVENT:FALSE
SUMMARY:Women's Business Summit
DESCRIPTION:Creating Strategies for today's successful women. Productive Sessions\, Motivating Speakers and Innovative Ideas. Senator Juan Hinojosa will be honored with the "Community Advocacy Award". \nFee: $25 per person (breakfast & lunch included) \nInfo: (956) 618-2828 www.wbc-rgv.org
X-ALT-DESC;FMTTYPE=text/html:Creating Strategies for today's successful women. Productive Sessions\, Motivating Speakers and Innovative Ideas. Senator Juan Hinojosa will be honored with the "Community Advocacy Award". \nFee: $25 per person (breakfast & lunch included) \nInfo: (956) 618-2828 www.wbc-rgv.org\n
LOCATION:
UID:e.1828.3142
SEQUENCE:3
DTSTAMP:20260421T052611Z
URL:https://business.harlingen.com/events/details/women-s-business-summit-08-26-2011-3142
END:VEVENT

END:VCALENDAR
