BEGIN:VCALENDAR
VERSION:2.0
PRODID:-//ChamberMaster//Event Calendar 2.0//EN
METHOD:PUBLISH
X-PUBLISHED-TTL:P3D
REFRESH-INTERVAL:P3D
CALSCALE:GREGORIAN
BEGIN:VEVENT
DTSTART:20110826T133000Z
DTEND:20110826T183000Z
X-MICROSOFT-CDO-ALLDAYEVENT:FALSE
SUMMARY:Women's Business Summit
DESCRIPTION:Would you like to learn to network with other business owners and learn where to find capital to expand your business\, what about finding new marketing techniques that work\, what about acquiring great customer service tips\, what about Investor's Visa\, what about learning how to beautify your business environment to atract more customers\, what about Commercial Real Estate and more..  Please register online:  www.wbc-rgv.org - $25 Fee (includes breakfast & lunch)
X-ALT-DESC;FMTTYPE=text/html:Would you like to learn to network with other business owners and learn where to find capital to expand your business\, what about finding new marketing techniques that work\, what about acquiring great customer service tips\, what about Investor's Visa\, what about learning how to beautify your business environment to atract more customers\, what about Commercial Real Estate and more..  Please register online:  www.wbc-rgv.org - $25 Fee (includes breakfast & lunch)
LOCATION:TSTC Campus - Harlingen @ the Cultural Center Building
UID:e.1828.3268
SEQUENCE:3
DTSTAMP:20260421T051953Z
URL:https://business.harlingen.com/events/details/women-s-business-summit-08-26-2011-3268
END:VEVENT

END:VCALENDAR
