BEGIN:VCALENDAR
VERSION:2.0
PRODID:-//ChamberMaster//Event Calendar 2.0//EN
METHOD:PUBLISH
X-PUBLISHED-TTL:P3D
REFRESH-INTERVAL:P3D
CALSCALE:GREGORIAN
BEGIN:VEVENT
DTSTART:20100121T150000Z
DTEND:20100121T190000Z
X-MICROSOFT-CDO-ALLDAYEVENT:FALSE
SUMMARY:Women's Conference
DESCRIPTION:The conference will feature panel discussions on health\, education\, business\, finance\, housing & law to develop a legislative agenda for the 82nd Legislative Sessions with State Representative Dr. Tara Rios Ybarra. \n\n\n    The conference is sponsored by the State Office of Rep. Tara Rios Ybarra\, Texas Sate Technical College & Family Crisis Center for RGV Services. \n\n\n    There is no fee to attend. RSVP to Edward Gonzales at (956) 372-3131.
X-ALT-DESC;FMTTYPE=text/html:<p>\n    The conference will feature panel discussions on health\, education\, business\, finance\, housing &amp\; law to develop a legislative agenda for the 82nd Legislative Sessions with State Representative Dr. Tara Rios Ybarra. \n</p>\n<p>\n    The conference is sponsored by the State Office of Rep. Tara Rios Ybarra\, Texas Sate Technical College &amp\; Family Crisis Center for RGV Services. \n</p>\n<p>\n    There is no fee to attend. RSVP to <a href="http://edward.gonzales@house.state.tx.us">Edward Gonzales</a>&nbsp\;at (956) 372-3131.\n</p>
LOCATION:
UID:e.1828.2316
SEQUENCE:3
DTSTAMP:20260422T111726Z
URL:https://business.harlingen.com/events/details/women-s-conference-01-21-2010-2316
END:VEVENT

END:VCALENDAR
