BEGIN:VCALENDAR
VERSION:2.0
PRODID:-//ChamberMaster//Event Calendar 2.0//EN
METHOD:PUBLISH
X-PUBLISHED-TTL:P3D
REFRESH-INTERVAL:P3D
CALSCALE:GREGORIAN
BEGIN:VEVENT
DTSTART:20120322T161500Z
DTEND:20120322T161500Z
X-MICROSOFT-CDO-ALLDAYEVENT:FALSE
SUMMARY:Women's Small Business Open Forum
DESCRIPTION:Ask the Expert: Women's Small Business Open Forum an open forum on women's business ownership\na Free Online SBA Web Chat hosted by SBA Asst. Administrator Ana Harvey of SBA's Office of Women's Business Ownership.\nThursday\, March 22\, 2012\n12 noon - Harvey will answer questions for one hour  \nParticipants can join the live webchat and also post questions before the chat\, by going online to www.sba.gov and selecting the Web Chat Event under What's New.
X-ALT-DESC;FMTTYPE=text/html:Ask the Expert: Women's Small Business Open Forum an open forum on women's business ownership\na Free Online SBA Web Chat hosted by SBA Asst. Administrator Ana Harvey of SBA's Office of Women's Business Ownership.\nThursday\, March 22\, 2012\n12 noon - Harvey will answer questions for one hour  \nParticipants can join the live webchat and also post questions before the chat\, by going online to www.sba.gov and selecting the Web Chat Event under What's New. \n \n
LOCATION:
UID:e.1828.3590
SEQUENCE:3
DTSTAMP:20260420T181854Z
URL:https://business.harlingen.com/events/details/women-s-small-business-open-forum-03-22-2012-3590
END:VEVENT

END:VCALENDAR
