BEGIN:VCALENDAR
VERSION:2.0
PRODID:-//ChamberMaster//Event Calendar 2.0//EN
METHOD:PUBLISH
X-PUBLISHED-TTL:P3D
REFRESH-INTERVAL:P3D
CALSCALE:GREGORIAN
BEGIN:VEVENT
DTSTART;VALUE=DATE:20100224
DTEND;VALUE=DATE:20100301
TRANSP:TRANSPARENT
X-MICROSOFT-CDO-ALLDAYEVENT:TRUE
SUMMARY:Word in Season Elevation - Next Level Conference
DESCRIPTION:Inauguration conference guest speakers each service.  2/24 Bishop Paul Ojeda.  2/26 Bishop Ken Phillips & 2/28 Bishop Jaime Loya.  7 pm on the 24th & 26th.  10 am on the 28th.  Hosted by Pastor Edward & Merari Hinojosa.  All services held at Word in Season International  church located at 3700 East Harrison.  Word in Season is an independent church and strives to serve the community in any way it can.  For more information\, please call 956-778-8635.
X-ALT-DESC;FMTTYPE=text/html:Inauguration conference guest speakers each service.  2/24 Bishop Paul Ojeda.  2/26 Bishop Ken Phillips & 2/28 Bishop Jaime Loya.  7 pm on the 24th & 26th.  10 am on the 28th.  Hosted by Pastor Edward & Merari Hinojosa.  All services held at Word in Season International  church located at 3700 East Harrison.  Word in Season is an independent church and strives to serve the community in any way it can.  For more information\, please call 956-778-8635.
LOCATION:
UID:e.1828.2400
SEQUENCE:3
DTSTAMP:20260422T093734Z
URL:https://business.harlingen.com/events/details/word-in-season-elevation-next-level-conference-02-24-2010-2400
END:VEVENT

END:VCALENDAR
