BEGIN:VCALENDAR
VERSION:2.0
PRODID:-//ChamberMaster//Event Calendar 2.0//EN
METHOD:PUBLISH
X-PUBLISHED-TTL:P3D
REFRESH-INTERVAL:P3D
CALSCALE:GREGORIAN
BEGIN:VEVENT
DTSTART:20111027T133000Z
DTEND:20111027T210000Z
X-MICROSOFT-CDO-ALLDAYEVENT:FALSE
SUMMARY:WorkForce Solutions 4th Annual EARN Forum
DESCRIPTION:WorkForce Solutions - Cameron and the Texas Department of Rehabilitative Services Harlingen Unit will be hosting their  4th Annual EARN Forum on \nThursday\, October 27\, 2011 at Hilton Garden Inn \nSouth Padre Island.  \nThis event is to educate\, promote and motivate employers in regards to hiring individuals with disabilities or who might have injured employees that are returning to work. In addition\, it will provide a clearer understanding of the REAL advantages and benefits regarding the employment of job seekers with disabilities.\nTentative speakers are: Pat Crawford from T.W.C.C. Specialist in Return to Work Employees\; Diego de Maya\, Attorney and ADA Law Specialist\; Isabel Segovia\, HHSC Civil Rights Area Manager. Attendees benefitting from this conference are Hiring Managers\, Safety Manager\, and any personnel in the Human Resource Department.\n\nREGISTRATION AND LUNCH ARE FREE!\nThe EARN Forum is also seeking monetary donations\, door prizes\, and/or items for Silent Auction. For more information\, contact: Bruce Bell at (956) 389-8950 or Maria Roussett at Workforce Solutions Cameron  (956) 548-6700\, EXT 4535.
X-ALT-DESC;FMTTYPE=text/html:WorkForce Solutions - Cameron and the Texas Department of Rehabilitative Services Harlingen Unit will be hosting their  4th Annual EARN Forum on \nThursday\, October 27\, 2011 at Hilton Garden Inn \nSouth Padre Island.  \nThis event is to educate\, promote and motivate employers in regards to hiring individuals with disabilities or who might have injured employees that are returning to work. In addition\, it will provide a clearer understanding of the REAL advantages and benefits regarding the employment of job seekers with disabilities.\nTentative speakers are: Pat Crawford from T.W.C.C. Specialist in Return to Work Employees\; Diego de Maya\, Attorney and ADA Law Specialist\; Isabel Segovia\, HHSC Civil Rights Area Manager. Attendees benefitting from this conference are Hiring Managers\, Safety Manager\, and any personnel in the Human Resource Department.\n\nREGISTRATION AND LUNCH ARE FREE!\nThe EARN Forum is also seeking monetary donations\, door prizes\, and/or items for Silent Auction. For more information\, contact: Bruce Bell at (956) 389-8950 or Maria Roussett at Workforce Solutions Cameron  (956) 548-6700\, EXT 4535. 
LOCATION:
UID:e.1828.3070
SEQUENCE:3
DTSTAMP:20260421T033837Z
URL:https://business.harlingen.com/events/details/workforce-solutions-4th-annual-earn-forum-10-27-2011-3070
END:VEVENT

END:VCALENDAR
